BEGIN:VCALENDAR
VERSION:2.0
PRODID:spatie/icalendar-generator
BEGIN:VTIMEZONE
TZID:UTC
BEGIN:STANDARD
DTSTART:20210415T080000
TZOFFSETFROM:+0000
TZOFFSETTO:+0000
END:STANDARD
END:VTIMEZONE
BEGIN:VEVENT
UID:13a1e8bb-2c86-452d-b3bd-739f88d4d452--0
DTSTAMP:20260404T230115Z
SUMMARY:Emerging issues in the Blue Economy
LOCATION:
ORGANIZER;CN=beta-academy.ugent.be:MAILTO:science-academy@ugent.be
DTSTART:20220110T080000Z
DTEND:20220114T220000Z
END:VEVENT
END:VCALENDAR