BEGIN:VCALENDAR
VERSION:2.0
PRODID:spatie/icalendar-generator
BEGIN:VTIMEZONE
TZID:UTC
BEGIN:STANDARD
DTSTART:20250707T172636
TZOFFSETFROM:+0000
TZOFFSETTO:+0000
END:STANDARD
END:VTIMEZONE
BEGIN:VEVENT
UID:5803e389-a92f-4d7c-968f-365d55b4e075--0
DTSTAMP:20260403T172636Z
SUMMARY:Volledige opleiding
LOCATION:
ORGANIZER;CN=beta-academy.ugent.be:MAILTO:science-academy@ugent.be
DTSTART:20260422T150000Z
DTEND:20260624T203000Z
END:VEVENT
END:VCALENDAR