BEGIN:VCALENDAR
VERSION:2.0
PRODID:spatie/icalendar-generator
BEGIN:VTIMEZONE
TZID:UTC
BEGIN:STANDARD
DTSTART:20230515T230000
TZOFFSETFROM:+0000
TZOFFSETTO:+0000
END:STANDARD
END:VTIMEZONE
BEGIN:VEVENT
UID:ded8fa1f-a314-4b12-ac84-6a5a4aef18f9--0
DTSTAMP:20260422T092310Z
SUMMARY:Micro-credential
LOCATION:
ORGANIZER;CN=beta-academy.ugent.be:MAILTO:science-academy@ugent.be
DTSTART:20240209T230000Z
DTEND:20240629T220000Z
END:VEVENT
END:VCALENDAR